Workbook

Sheet F.T.- A.P.
A1: FLETE TERRESTRE - SISTEMA DE AGUA POTABLE
A3: CALCULO DE FLETE POR PESO
A4: Código | B4: Descripción | C4: Und. | D4: Cantidad | E4: PESO x UND | F4: PESO
A5: 1 | B5: PETROLEO D-2 | C5: gal | D5: 0.9605 | E5: 3.04 | F5: =+D5*E5 -> 2.91992
A6: 2 | B6: ALAMBRE NEGRO RECOCIDO N° 8 | C6: kg | D6: 42.6324 | E6: 1 | F6: =+D6*E6 -> 42.6324
A7: 3 | B7: ALAMBRE NEGRO RECOCIDO N° 16 | C7: kg | D7: 123.786 | E7: 1 | F7: =+D7*E7 -> 123.786
A8: 4 | B8: ACERO CORRUGADO fy = 4200 kg/cm2 GRADO 60 | C8: kg | D8: 2599.506 | E8: 1 | F8: =+D8*E8 -> 2599.506
A9: 5 | B9: CLAVOS PARA MADERA CON CABEZA DE 2" | C9: kg | D9: 30.2392 | E9: 1 | F9: =+D9*E9 -> 30.2392
A10: 6 | B10: CLAVOS PARA MADERA CON CABEZA DE 2 1/2" | C10: kg | D10: 4.644 | E10: 1 | F10: =+D10*E10 -> 4.644
A11: 7 | B11: CLAVOS PARA MADERA CON CABEZA DE 3" | C11: kg | D11: 69.204 | E11: 1 | F11: =+D11*E11 -> 69.204
A12: 8 | B12: CLAVOS PARA MADERA CON CABEZA DE 4" | C12: kg | D12: 1.921 | E12: 1 | F12: =+D12*E12 -> 1.921
A13: 9 | B13: ABRAZADERA DE PLATINO DE 1", e=1/8" | C13: pza | D13: 62 | E13: 1 | F13: =+D13*E13 -> 62
A14: 11 | B14: CABLE DE ACERO TIPO BOA DE Ø1/2 | C14: m | D14: 49 | E14: 2 | F14: =+D14*E14 -> 98
A15: 12 | B15: ESCALERA PARA RESERVORIO DE F°G° Ø1" | C15: und | D15: 2 | E15: 20 | F15: =+D15*E15 -> 40
A16: 13 | B16: CODO PVC SAP S/P 1/2" X 90° | C16: und | D16: 552 | E16: 0.1 | F16: =+D16*E16 -> 55.2
... A49: 46 | B49: CAMARA ARO 20 | C49: und | D49: 2 | E49: 0.2 | F49: =+D49*E49 -> 0.4
A50: 47 | B50: TAPA METALICA SANITARIA DE 60X60cm X 1/8" | C50: und | D50: 12 | E50: 5 | F50: =D50/E50 -> 2.4
A51: 48 | B51: TAPA METALICA SANITARIA DE 50X50cm X 1/8" | C51: und | D51: 2 | E51: 5 | F51: =D51/E51 -> 0.4
A52: 49 | B52: CANDADO INC. ALDABA | C52: und | D52: 14 | E52: 0.2 | F52: =D52/E52 -> 70
A53: 50 | B53: REGLA DE MADERA | C53: p2 | D53: 2.759 | E53: 1 | F53: =D53/E53 -> 2.759
A54: 51 | B54: IMPERMEABILIZANTES | C54: gal | D54: 50.0161 | E54: 4 | F54: =D54/E54 -> 12.504025
A55: PESO TOTAL EN KG | F55: =SUM(F5:F54) -> 57531.343
A56: PESO TOTAL EN TONELADAS | F56: =+F55/1000 -> 57.531343
A57: COSTO POR TONELADA | F57: 350
A58: COSTO DEL FLETE POR PESO | F58: =+F57*F56 -> 20135.97
B60: CAPACIDAD DE CAMION DE 20 TN. | E60: 20 | F60: TONELADAS
B61: FLETE POR KG. | E61: 0.35 | F61: NUEVOS SOLES
B62: FLETE POR VOLUMEN (POR VIAJE) | E62: 0.35 | F62: NUEVOS SOLES
B64: CAPACIDAD DE CAMION VOLQUETE
B65: PRECIO POR METRO CUBICO | E65: 30 | F65: M3
B66: PUESTO EN OBRA
B69: CAPACIDAD DE CAMION DE 20 TN. | E69: 20 | F69: TONELADAS
B70: Nº DE TUBOS EN CAMION | E70: 1525 | F70: TUB
B71: PRECIO DE VIAJE TOTAL | E71: =0.35*20000 -> 7000 | F71: NUEVOS SOLES
B72: PRECIO DE FLETE POR TUBO | E72: =+E71/E70 -> 4.5901639 | F72: NUEVOS SOLES
A74: CALCULO DE FLETE POR VOLUMEN
A75: Código | B75: Descripción | C75: Und. | D75: Cantidad | E75: N° TUBOS | F75: TOTAL - TUBOS
A76: 1 | B76: TUBERIA PVC SAP C-10 Ø1/2" | C76: m | D76: 2309.3025 | E76: =ROUND((D76/6),0) -> 385 | F76: =SUM(E76:E82) -> 1867.35
A77: 2 | B77: TUBERIA PVC SAP C-10 Ø2" | C77: m | D77: 3102.855 | E77: =ROUND((D77/6),0) -> 517
A78: 3 | B78: TUBERIA PVC SAP C-10 Ø1" | C78: m | D78: 2823.1875 | E78: =ROUND((D78/6),0) -> 471
A79: 4 | B79: TUBERIA PVC SAP C-10 Ø 1 1/2" | C79: m | D79: 568.911 | E79: =ROUND((D79/6),0) -> 95
A80: 5 | B80: TUBERIA PVC SAP C-10 Ø3/4" | C80: m | D80: 1702.89 | E80: =ROUND((D80/6),0) -> 284
A81: 6 | B81: TUBERIA PVC-SAL 2" X 3 m | C81: m | D81: 276 | E81: =ROUND((D81/6),0) -> 46
A82: 7 | B82: TUBERIA PVC-SAL 4" X 3 m | C82: m | D82: 416.1 | E82: =D82/6 -> 69.35
A83: TOTAL | F83: =F76 -> 1867.35
A85: PRECIO DE FLETE POR TUBO (CALCULADO) | F85: 3.6
A86: COSTO DEL FLETE DE TUBERIAS | F86: =F83*F85 -> 6722.46
A88: TOTAL DE FLETE SISTEMA DE AGUA POTABLE | F88: =+F58+F86 -> 26858.43

Sheet F.R.-A.P.
A1: FLETE RURAL - SISTEMA DE AGUA POTABLE
A3: Se le considera una distancia promedio de 1000 mts. de traslado de materiales a la ubicación de las estructuras proyectadas:
A5: Datos:
A6: Acemila+Arriero x dia | C6: 40 | D6: soles
A7: Ruta desde Carretera hasta vivienda | C7: 3 | D7: Horas
A8: Nº de viajes al dia | C8: 3 | D8: Viajes/acemila
A9: Costo Por Viaje | C9: =(C6)/C8 -> 13.333333 | D9: soles/ Viaje
A10: Peso por Viaje | C10: 100 | D10: kg
A11: Costo x KG | C11: =+C9/C10 -> 0.13333333 | D11: Soles/kg
A12: N Carguio de agregados | C12: 0.1 | D12: m3./acemila
A13: N Carguio de ladrillos | C13: 100 | D13: ladr./acemila
A14: N Carguio de Tubos x acemila 1/2" | C14: 100 | D14: tubos/acemila
A15: N Carguio de Tubos x acemila 3/4" | C15: 80 | D15: tubos/acemila
A16: N Carguio de Tubos x acemila 1" | C16: 65 | D16: tubos/acemila
A17: N Carguio de Tubos x acemila 1 1/2" | C17: 50 | D17: tubos/acemila
A18: N Carguio de Tubos x acemila 2" | C18: 40 | D18: tubos/acemila
A19: N Carguio de Tubos x acemila 2 1/2" | C19: 30 | D19: tubos/acemila
A20: N Carguio de Tubos x acemila 4" | C20: 20 | D20: tubos/acemila
A21: N Carguio de Biodigestores 600 Lts. | C21: 2 | D21: biodig./acemila
A22: N Carguio de Lavatorios | C22: 4 | D22: Lavat./acemila
A23: N Carguio de Inodoros | C23: 2 | D23: Inod./acemila
A25: EN AGREGADOS
A27: DESCRIPCION | B27: UNIDAD | C27: CANTIDAD
A28: PIEDRA CHANCADA 1/2" | B28: m3 | C28: 29.8142
A29: PIEDRA CHANCADA 3/4" | B29: m3 | C29: 0.4482
A30: PIEDRA CHANCADA 1" | B30: m3 | C30: 0.7636
A31: PIEDRA MEDIANA DE 4" | B31: m3 | C31: 0.4142
A32: PIEDRA GRANDE DE 8" | B32: m3 | C32: 3.6096
A33: ARENA FINA | B33: m3 | C33: 14.4478
A34: ARENA GRUESA | B34: m3 | C34: 31.7244
A35: HORMIGON | B35: m3 | C35: 8.2429
A37: VOLUMEN TOTAL | C37: =+SUM(C28:C35) -> 89.4649
A39: RESULTADOS
A40: FLETE RURAL | D40: CANTIDAD | E40: COSTO | F40: SUB TOTAL
A41: POR PESO | D41: ='F.T.- A.P.'!F55 -> 57531.343 | E41: 0.1 | F41: =+D41*E41 -> 5753.1343
A42: SUB TOTAL | F42: =SUM(F41:F41) -> 5753.1343
A44: FLETE RURAL | D44: CANTIDAD | E44: M3/VIAJE | F44: COSTO/VIAJE | G44: SUB TOTAL
A45: POR VOLUMEN-AGREGADOS | D45: =+C37 -> 89.4649 | E45: 0.2 | F45: 10 | G45: =+D45/E45*F45 -> 4473.245
A46: SUB TOTAL | G46: =SUM(G45:G45) -> 4473.245
A48: FLETE RURAL | D48: CANTIDAD | E48: TUBER./VIAJE | F48: COSTO/VIAJE | G48: SUB TOTAL
A49: TUBERIAS | D49: =+C38
A50: TUBERIA PVC SAP C-10 Ø1/2" | D50: 2309.3 | E50: 100 | F50: 10 | G50: =+D50/E50*F50 -> 230.93
A51: TUBERIA PVC SAP C-10 Ø2" | D51: 3102.855 | E51: 40 | F51: 10 | G51: =+D51/E51*F51 -> 775.71375
A52: TUBERIA PVC SAP C-10 Ø1" | D52: 2823.1875 | E52: 65 | F52: 10 | G52: =+D52/E52*F52 -> 434.33654
A53: TUBERIA PVC SAP C-10 Ø 1 1/2" | D53: 568.911 | E53: 50 | F53: 10 | G53: =+D53/E53*F53 -> 113.7822
A54: TUBERIA PVC SAP C-10 Ø3/4" | D54: 1702.89 | E54: 80 | F54: 10 | G54: =+D54/E54*F54 -> 212.86125
A55: TUBERIA PVC-SAL 2" X 3 m | D55: 276 | E55: 40 | F55: 10 | G55: =+D55/E55*F55 -> 69
A56: TUBERIA PVC-SAL 4" X 3 m | D56: 416.1 | E56: 20 | F56: 10 | G56: =+D56/E56*F56 -> 208.05
A58: SUB TOTAL | G58: =SUM(G50:G57) -> 2044.6737
A60: RESUMEN FLETE RURAL
A61: DESCRIPCION | C61: SUB TOTAL
A62: =+A41 -> POR PESO | C62: =+F42 -> 5753.1343
A63: =+A45 -> POR VOLUMEN-AGREGADOS | C63: =+G46 -> 4473.245
A64: =+A49 -> TUBERIAS | C64: =+G58 -> 2044.6737
A66: TOTAL | C66: =SUM(C62:C65) -> 12271.053

Sheet F.R.-ALC.
A1: FLETE RURAL - RED DE ALCANTARILLADO
A3: PROYECTO: "MEJORAMIENTO E INSTALACION DEL SISTEMA DE ALCANTARILLADO Y UNIDADES BASICAS DE SANEAMIENTO UBS EN EL ANEXO DE AYARA, DISTRITO DE CHILLIA - PROVINCIA DE PATAZ - LA LIBERTAD" (CUI N° 2488201) - PRIMERA ETAPA
A6: Se le considera una distancia promedio de 1000 mts. de traslado de materiales a la ubicación de las estructuras proyectadas:
A8: Datos:
A9: Acemila+Arriero x dia | C9: 40 | D9: soles
A10: Ruta desde Carretera hasta vivienda | C10: 3 | D10: Horas
A11: Nº de viajes al dia | C11: 3 | D11: Viajes/acemila
A12: Costo Por Viaje | C12: =(C9)/C11 -> 13.333333 | D12: soles/ Viaje
A13: Peso por Viaje | C13: 100 | D13: kg
A14: Costo x KG | C14: =+C12/C13 -> 0.13333333 | D14: Soles/kg
A15: N Carguio de agregados | C15: 0.1 | D15: m3./acemila
A16: N Carguio de ladrillos | C16: 100 | D16: ladr./acemila
A17: N Carguio de Tubos x acemila 1/2" | C17: 100 | D17: tubos/acemila
A18: N Carguio de Tubos x acemila 3/4" | C18: 80 | D18: tubos/acemila
A19: N Carguio de Tubos x acemila 1" | C19: 65 | D19: tubos/acemila
A20: N Carguio de Tubos x acemila 1 1/2" | C20: 50 | D20: tubos/acemila
A21: N Carguio de Tubos x acemila 2" | C21: 40 | D21: tubos/acemila
A22: N Carguio de Tubos x acemila 2 1/2" | C22: 30 | D22: tubos/acemila
A23: N Carguio de Tubos x acemila 4" | C23: 20 | D23: tubos/acemila
A24: N Carguio de Biodigestores 600 Lts. | C24: 1 | D24: biodig./acemila
A25: N Carguio de Lavatorios | C25: 4 | D25: Lavat./acemila
A26: N Carguio de Inodoros | C26: 2 | D26: Inod./acemila
A28: EN AGREGADOS
A30: DESCRIPCION | B30: UNIDAD | C30: CANTIDAD
A31: =[1]Sheet1!E43 -> PIEDRA CHANCADA 3/4" | B31: =[1]Sheet1!K43 -> m3 | C31: =[2]Sheet1!$M$43 -> 33.2035
A32: =[1]Sheet1!E44 -> PIEDRA CHANCADA 1/2" | B32: =[1]Sheet1!K44 -> m3 | C32: =[2]Sheet1!$M$44 -> 32.9578
A33: =[1]Sheet1!E45 -> ARENA GRUESA | B33: =[1]Sheet1!K45 -> m3 | C33: =[2]Sheet1!$M$45 -> 150.8686
A34: =[1]Sheet1!E46 -> HORMIGON | B34: =[1]Sheet1!K46 -> m3 | C34: =[1]Sheet1!M46 -> 0.48
A36: VOLUMEN TOTAL | C36: =SUM(C31:C34) -> 217.5099
A39: RESULTADOS
A40: FLETE RURAL | D40: CANTIDAD | E40: COSTO | F40: SUB TOTAL
A41: POR PESO | D41: 45754.82 | E41: 0 | F41: =+D41*E41 -> 0
A42: SUB TOTAL | F42: =SUM(F41:F41) -> 0
A44: FLETE RURAL | D44: CANTIDAD | E44: M3/VIAJE | F44: COSTO/VIAJE | G44: SUB TOTAL
A45: POR VOLUMEN-AGREGADOS | D45: =+C36 -> 217.5099 | E45: 0.2 | F45: 10 | G45: =+D45/E45*F45 -> 10875.495
A46: SUB TOTAL | G46: =SUM(G45:G45) -> 10875.495
A49: FLETE RURAL | D49: CANTIDAD | E49: TUBER./VIAJE | F49: COSTO/VIAJE | G49: SUB TOTAL
A50: TUBERIAS: | D50: =+C37
A51: TUBERÍA PVC S-25 UF DN 160 MM | D51: ='F.T.-ALC.'!E28 -> 169 | E51: 2 | F51: 10 | G51: =+D51/E51*F51 -> 845
A52: TUBERÍA PVC S-25 UF DN 200 MM | D52: ='F.T.-ALC.'!E29 -> 59 | E52: 2 | F52: 10 | G52: =+D52/E52*F52 -> 295
A54: SUB TOTAL | G54: =SUM(G51:G53) -> 1140
A57: RESUMEN FLETE RURAL
A58: DESCRIPCION | C58: SUB TOTAL
A59: =+A41 -> POR PESO | C59: =+F42 -> 0
A60: =+A45 -> POR VOLUMEN-AGREGADOS | C60: =+G46 -> 10875.495
A61: =+A50 -> TUBERIAS: | C61: =+G54 -> 1140
A63: TOTAL | C63: =SUM(C59:C62) -> 12015.495

Sheet F.T.-ALC.
A1: FLETE TERRESTRE-RED DE ALCANTARILLADO
A2: PROYECTO | B2: "MEJORAMIENTO E INSTALACION DEL SISTEMA DE ALCANTARILLADO Y UNIDADES BASICAS DE SANEAMIENTO UBS EN EL ANEXO DE AYARA, DISTRITO DE CHILLIA - PROVINCIA DE PATAZ - LA LIBERTAD" (CUI N° 2488201) - PRIMERA ETAPA
A3: CALCULO DE FLETE POR PESO
A4: Código | B4: Descripción | C4: Und. | D4: Cantidad | E4: PESO x UND | F4: PESO
A5: 1 | B5: =[3]Sheet1!E27 -> ALAMBRE NEGRO RECOCIDO N° 8 | C5: kg | D5: =[2]Sheet1!M27 -> 247.3183 | E5: 1 | F5: =D5*E5 -> 247.3183
A6: 2 | B6: =[3]Sheet1!E28 -> ALAMBRE NEGRO N° 16 | C6: kg | D6: =[2]Sheet1!M28 -> 21.7319 | E6: 1 | F6: =D6*E6 -> 21.7319
A7: 3 | B7: =[3]Sheet1!$E$30 -> ACERO CORRUGADO fy = 4200 kg/cm2 GRADO 60 | C7: kg | D7: =[1]Sheet1!$M$29 -> 1746.8 | E7: 1 | F7: =D7*E7 -> 1746.8
A8: 4 | B8: =[3]Sheet1!E37 -> CLAVOS PARA MADERA CON CABEZA | C8: =[3]Sheet1!K37 -> kg | D8: =[2]Sheet1!M30 -> 47.4335 | E8: 1 | F8: =D8*E8 -> 47.4335
A9: 5 | B9: =[3]Sheet1!E39 -> CLAVOS PARA MADERA CON CABEZA DE 3" | C9: =[3]Sheet1!K39 -> kg | D9: =[2]Sheet1!M31 -> 3.85 | E9: 1 | F9: =D9*E9 -> 3.85
A10: 6 | B10: =[3]Sheet1!E40 -> CLAVOS PARA MADERA CON CABEZA (PROMEDIO) | C10: =[3]Sheet1!K40 -> kg | D10: =[2]Sheet1!M32 -> 20.8707 | E10: 1 | F10: =D10*E10 -> 20.8707
A11: 7 | B11: =[3]Sheet1!E62 -> CEMENTO PORTLAND TIPO I (42.5 kg) | C11: BLS | D11: =[2]Sheet1!M47 -> 98.204 | E11: 42.5 | F11: =D11*E11 -> 4173.67
A12: 8 | B12: =[3]Sheet1!E63 -> CEMENTO PORTLAND TIPO V (42.5KG) | C12: BLS | D12: =[2]Sheet1!M48 -> 580.2504 | E12: 42.5 | F12: =D12*E12 -> 24660.642
A13: 9 | B13: =[3]Sheet1!E64 -> YESO BOLSA 10 kg | C13: BLS | D13: =[2]Sheet1!$M$49 -> 316.732 | E13: 10 | F13: =D13*E13 -> 3167.32
A14: 10 | B14: =[3]Sheet1!E75 -> CAJA DE CONCRETO P/DESAGUE 0.3X0.6m (2 CUERPOS) | C14: Und. | D14: =[2]Sheet1!$M$59 -> 45 | E14: 35 | F14: =D14*E14 -> 1575
A15: 11 | B15: =[3]Sheet1!E76 -> PEGAMENTO PARA PVC | C15: =[3]Sheet1!K76 -> gal | D15: =[2]Sheet1!$M$60 -> 3.87 | E15: 4.8 | F15: =D15*E15 -> 18.576
A16: 12 | B16: =[3]Sheet1!E77 -> LUBRICANTE PARA TUBERIA DE UNION FLEXIBLE | C16: =[3]Sheet1!K77 -> gal | D16: =[2]Sheet1!$M$61 -> 7.5894 | E16: 4.8 | F16: =D16*E16 -> 36.42912
A17: 13 | B17: =[3]Sheet1!E80 -> MADERA NACIONAL P/ENCOFRADO-CARP | C17: =[3]Sheet1!K80 -> p2 | D17: =[2]Sheet1!$M$62 -> 3592.135 | E17: 2 | F17: =D17*E17 -> 7184.27
A18: 14 | B18: =[3]Sheet1!E88 -> TRIPLAY 4" x 8" x 4 mm | C18: =[3]Sheet1!K88 -> pln | D18: =[2]Sheet1!$M$67 -> 18.99 | E18: 9 | F18: =D18*E18 -> 170.91
A19: 15 | B19: =[3]Sheet1!E89 -> CALAMINA GLAVANIZADA DE 2.40X0.83X0.30MM | C19: =[3]Sheet1!K89 -> pln | D19: =[1]Sheet1!$M$68 -> 18 | E19: 10 | F19: =D19*E19 -> 180
A20: 16 | B20: VARIOS | C20: KG | D20: 2500 | E20: 1 | F20: =D20*E20 -> 2500
A21: PESO TOTAL EN KG | F21: =SUM(F5:F20) -> 45754.822
A22: PESO TOTAL EN TONELADAS | F22: =+F21/1000 -> 45.754822
A23: COSTO POR TONELADA | F23: 350
A24: COSTO DEL FLETE POR PESO | F24: =+F23*F22 -> 16014.188
A26: CALCULO DE FLETE POR VOLUMEN
A27: Código | B27: Descripción | C27: Und. | D27: Cantidad | E27: VOL x UND | F27: TOTAL- TUBOS
A28: 1 | B28: TUBERÍA PVC S-25 UF DN 160 MM | C28: m | D28: =[2]Sheet1!$AC$36 -> 1015.746 | E28: =ROUND(D28/6,0) -> 169 | F28: =SUM(E28:E29) -> 228
A29: 2 | B29: TUBERÍA PVC S-25 UF DN 200 MM | C29: m | D29: =[2]Sheet1!$AB$50 -> 356.898 | E29: =ROUND(D29/6,0) -> 59
A30: VOLUMEN TOTAL | F30: =SUM(F28:F29) -> 228
A31: PRECIO DE FLETE POR TUBO (CALCULADO) | F31: 9.5
A32: COSTO DEL FLETE DE TUBERIAS | F32: =+F30*F31 -> 2166
A34: TOTAL DE FLETE SISTEMA DE ALCANTARILLADO | F34: =F24+F32 -> 18180.188

Sheet F.T.-U.B.S.
A1: FLETE TERRESTRE- UNIDAD BASICA DE SANEAMIENTO
A3: CALCULO DE FLETE POR PESO
A4: Código | B4: Descripción | C4: Und. | D4: Cantidad | E4: PESO x UND | F4: PESO
A5: 1 | B5: =[4]Sheet1!E24 -> ALAMBRE NEGRO RECOCIDO N° 8 | C5: =[4]Sheet1!K24 -> kg | D5: =[4]Sheet1!M24 -> 243.9079 | E5: 1 | F5: =D5*E5 -> 243.9079
A6: 2 | B6: =[4]Sheet1!E25 -> ALAMBRE NEGRO N° 16 | C6: =[4]Sheet1!K25 -> kg | D6: =[4]Sheet1!M25 -> 620.7261 | E6: 1 | F6: =D6*E6 -> 620.7261
A7: 3 | B7: =[4]Sheet1!E26 -> ACERO CORRUGADO fy = 4200 kg/cm2 GRADO 60 | C7: =[4]Sheet1!K26 -> kg | D7: =[4]Sheet1!M26 -> 9819.2002 | E7: 1 | F7: =D7*E7 -> 9819.2002
A8: 4 | B8: =[4]Sheet1!E27 -> CLAVOS PARA MADERA CON CABEZA | C8: =[4]Sheet1!K27 -> kg | D8: =[4]Sheet1!M27 -> 468.0047 | E8: 1 | F8: =D8*E8 -> 468.0047
A9: 5 | B9: =[4]Sheet1!E28 -> CLAVOS PARA MADERA CON CABEZA DE 2" | C9: =[4]Sheet1!K28 -> kg | D9: =[4]Sheet1!M28 -> 3.744 | E9: 1 | F9: =D9*E9 -> 3.744
A10: 6 | B10: =[4]Sheet1!E29 -> CLAVOS PARA MADERA CON CABEZA DE 2 1/2" | C10: =[4]Sheet1!K29 -> kg | D10: =[4]Sheet1!M29 -> 4.862 | E10: 1 | F10: =D10*E10 -> 4.862
A11: 7 | B11: =[4]Sheet1!E46 -> CODO DE FIERRO GALVANIZADO DE 1/2"X90! | C11: =[4]Sheet1!K46 -> und | D11: =[4]Sheet1!M46 -> 104 | E11: 0.1 | F11: =D11*E11 -> 10.4
A12: 8 | B12: =[4]Sheet1!E47 -> CEMENTO PORTLAND TIPO I (42.5 kg) | C12: =[4]Sheet1!K47 -> bol | D12: =[4]Sheet1!M47 -> 1652.8839 | E12: 42.5 | F12: =D12*E12 -> 70247.566
A13: 9 | B13: =[4]Sheet1!E48 -> YESO BOLSA 10 kg | C13: =[4]Sheet1!K48 -> bol | D13: =[4]Sheet1!M48 -> 119.9129 | E13: 10 | F13: =D13*E13 -> 1199.129
A14: 10 | B14: =[4]Sheet1!E49 -> TEE PVC ALC. 4" X 90° UF | C14: =[4]Sheet1!K49 -> und | D14: =[4]Sheet1!M49 -> 52 | E14: 0.6 | F14: =D14*E14 -> 31.2
A15: 11 | B15: =[4]Sheet1!E50 -> LADRILLO KK ARCILLA MAQUINADO | C15: =[4]Sheet1!K50 -> und | D15: =[4]Sheet1!M50 -> 26789.88 | E15: 2.8 | F15: =D15*E15 -> 75011.664
A16: 12 | B16: =[4]Sheet1!E51 -> CAJA Y TAPA DE CONCRETO P/AGUA DE 12"X20" | C16: =[4]Sheet1!K51 -> und | D16: =[4]Sheet1!M51 -> 52 | E16: 15 | F16: =D16*E16 -> 780
A17: 13 | B17: =[4]Sheet1!E52 -> CAJA DE CONCRETO P/DESAGUE 0.3X0.6m (2 CUERPOS) | C17: =[4]Sheet1!K52 -> und | D17: =[4]Sheet1!M52 -> 52 | E17: 35 | F17: =D17*E17 -> 1820
A18: 14 | B18: =[4]Sheet1!E53 -> PEGAMENTO PARA PVC | C18: =[4]Sheet1!K53 -> gal | D18: =[4]Sheet1!M53 -> 17.5429 | E18: 4.8 | F18: =D18*E18 -> 84.20592
A19: 15 | B19: =[4]Sheet1!E54 -> PEGAMENTO PARA LOSETAS Y CERAMICAS | C19: =[4]Sheet1!K54 -> und | D19: =[4]Sheet1!M54 -> 110.3268 | E19: 25 | F19: =D19*E19 -> 2758.17
A20: 16 | B20: =[4]Sheet1!E55 -> CERAMICA CELIMA VITRIFICADA 0.30X0.30 cm | C20: =[4]Sheet1!K55 -> m2 | D20: =[4]Sheet1!M55 -> 330.9812 | E20: 5 | F20: =D20*E20 -> 1654.906
A21: 17 | B21: =[4]Sheet1!E56 -> FRAGUA COLOR CREMA | C21: =[4]Sheet1!K56 -> kg | D21: =[4]Sheet1!M56 -> 63.044 | E21: 1 | F21: =D21*E21 -> 63.044
A22: 18 | B22: =[4]Sheet1!E57 -> TEJA ANDINA ETERNIT (1.14x0.70 m.) | C22: =[4]Sheet1!K57 -> pza | D22: =[4]Sheet1!M57 -> 282.1 | E22: 8.4 | F22: =D22*E22 -> 2369.64
... A40: 36 | B40: =[4]Sheet1!E75 -> INODORO TANQUE BAJO NORMAL BLANCO | C40: =[4]Sheet1!K75 -> und | D40: =[4]Sheet1!M75 -> 52 | E40: 25 | F40: =D40*E40 -> 1300
A41: 49 | B41: VALVULA COMPUERTA DE 1/2" | C41: und | D41: =[4]Sheet1!M77 -> 104 | E41: 1 | F41: =D41*E41 -> 104
A42: 50 | B42: GRIFO DE BRONCE DE 1/2" | C42: und | D42: =[4]Sheet1!M78 -> 156 | E42: 1 | F42: =D42*E42 -> 156
A43: 51 | B43: DUCHA CROMADA CON GRIFERIA, UNA LLAVE | C43: und | D43: =[4]Sheet1!M79 -> 52 | E43: 0.5 | F43: =D43*E43 -> 26
A44: PESO TOTAL EN KG | F44: =SUM(F5:F43) -> 194749.43
A45: PESO TOTAL EN TONELADAS | F45: =+F44/1000 -> 194.74943
A46: COSTO POR TONELADA | F46: 350
A47: COSTO DEL FLETE POR PESO | F47: =+F46*F45 -> 68162.3
A49: CAPACIDAD DE CAMION DE 20 TN. | D49: 20 | E49: TONELADAS
A50: FLETE POR KG. | D50: 0.35 | E50: NUEVOS SOLES
A51: FLETE POR VOLUMEN (POR VIAJE) | D51: 0.35 | E51: NUEVOS SOLES
A53: CAPACIDAD DE CAMION VOLQUETE
A54: PRECIO POR METRO CUBICO | D54: 30 | E54: M3
A55: PUESTO EN OBRA
A58: CAPACIDAD DE CAMION DE 20 TN. | D58: 20 | E58: TONELADAS
A59: Nº DE TUBOS EN CAMION | D59: 1525 | E59: TUB
A60: PRECIO DE VIAJE TOTAL | D60: 7000 | E60: NUEVOS SOLES
A61: PRECIO DE FLETE POR TUBO | D61: 4.5901639 | E61: NUEVOS SOLES
A64: CALCULO DE FLETE POR VOLUMEN
A65: Código | B65: Descripción | C65: Und. | D65: Cantidad | E65: VOL x UND | F65: TOTAL- TUBOS
A66: 1 | B66: =[4]Sheet1!E30 -> TUBERIA PVC SAL DE 2" | C66: m | D66: =[4]Sheet1!M30 -> 280.8 | E66: =ROUND(D66/3,0) -> 94 | F66: =SUM(E66:E69) -> 504
A67: 2 | B67: =[4]Sheet1!E31 -> TUBERIA PVC SAL DE 4" | C67: m | D67: =[4]Sheet1!M31 -> 515.84 | E67: =ROUND(D67/3,0) -> 172
A68: 3 | B68: =[4]Sheet1!E32 -> TUBERIA PVC DN 21MM | C68: m | D68: =[4]Sheet1!M32 -> 624 | E68: =ROUND(D68/5,0) -> 125
A69: 4 | B69: =[4]Sheet1!E33 -> TUBERIA PVC SAL DE 2" X 3M | C69: m | D69: =[4]Sheet1!M33 -> 338.6141 | E69: =ROUND(D69/3,0) -> 113
A70: VOLUMEN TOTAL | F70: =SUM(F66:F67) -> 504
A71: PRECIO DE FLETE POR TUBO (CALCULADO) | F71: 4.6
A72: COSTO DEL FLETE DE TUBERIAS | F72: =+F70*F71 -> 2318.4
A75: CAPACIDAD DE CAMION DE 20 TN. | D75: 20 | E75: TONELADAS
A76: Nº DE TANQUE BIODIGETSOR EN CAMION | D76: 10 | E76: TANQUES
A77: PRECIO DE VIAJE TOTAL | D77: 7000 | E77: NUEVOS SOLES
A79: CALCULO DE FLETE POR VIAJE
A80: Código | B80: Descripción | C80: Und. | D80: Cantidad | E80: CANT x VIAJE | F80: TOTAL- VIAJES
B81: TANQUE BIODIGESTOR (600 LTS) | C81: und | D81: 52 | E81: 10 | F81: =ROUND(D81/E81,0) -> 5
A83: TOTAL VIAJES | F83: =SUM(F81:F82) -> 5
A84: PRECIO DE VIAJE (CALCULADO) | F84: 7000
A85: COSTO DEL FLETE DE TANQUE BIODIGESTORES | F85: =+F83*F84 -> 35000
A88: TOTAL DE FLETE UNIDAD BASICA XDE SANEAMIENTO | F88: =+F47+F72+F85 -> 105480.7

Sheet F.R.-U.B.S.
A1: FLETE RURAL - UNIDAD BASICA DE SANEAMIENTO
A4: Se le considera una distancia promedio de 1000 mts. de traslado de materiales a la ubicación de las estructuras proyectadas:
A6: Datos:
A7: Acemila+Arriero x dia | C7: 40 | D7: soles
A8: Ruta desde Carretera hasta vivienda | C8: 3 | D8: Horas
A9: Nº de viajes al dia | C9: 3 | D9: Viajes/acemila
A10: Costo Por Viaje | C10: =(C7)/C9 -> 13.333333 | D10: soles/ Viaje
A11: Peso por Viaje | C11: 100 | D11: kg
A12: Costo x KG | C12: =+C10/C11 -> 0.13333333 | D12: Soles/kg
A13: N Carguio de agregados | C13: 0.1 | D13: m3./acemila
A14: N Carguio de ladrillos | C14: 100 | D14: ladr./acemila
A15: N Carguio de Tubos x acemila 1/2" | C15: 100 | D15: tubos/acemila
A16: N Carguio de Tubos x acemila 3/4" | C16: 80 | D16: tubos/acemila
A17: N Carguio de Tubos x acemila 1" | C17: 65 | D17: tubos/acemila
A18: N Carguio de Tubos x acemila 1 1/2" | C18: 50 | D18: tubos/acemila
A19: N Carguio de Tubos x acemila 2" | C19: 40 | D19: tubos/acemila
A20: N Carguio de Tubos x acemila 2 1/2" | C20: 30 | D20: tubos/acemila
A21: N Carguio de Tubos x acemila 4" | C21: 20 | D21: tubos/acemila
A22: N Carguio de Biodigestores 600 Lts. | C22: 1 | D22: biodig./acemila
A23: N Carguio de Lavatorios | C23: 4 | D23: Lavat./acemila
A24: N Carguio de Inodoros | C24: 2 | D24: Inod./acemila
A26: EN AGREGADOS
A28: DESCRIPCION | B28: UNIDAD | C28: CANTIDAD
A29: =[4]Sheet1!E39 -> PIEDRA CHANCADA DE 1/2"-3/4" | B29: =[4]Sheet1!K39 -> m3 | C29: =[4]Sheet1!M39 -> 54.8211
A30: =[4]Sheet1!E40 -> PIEDRA GRANDE DE 8" | B30: =[4]Sheet1!K40 -> m3 | C30: =[4]Sheet1!M40 -> 52.4352
A31: =[4]Sheet1!E41 -> GRAVA PARA FILTRO DE 3/4 - 1/2" | B31: =[4]Sheet1!K41 -> m3 | C31: =[4]Sheet1!M41 -> 162.162
A32: =[4]Sheet1!E42 -> ARENA FINA | B32: =[4]Sheet1!K42 -> m3 | C32: =[4]Sheet1!M42 -> 35.2644
A33: =[4]Sheet1!E43 -> ARENA GRUESA | B33: =[4]Sheet1!K43 -> m3 | C33: =[4]Sheet1!M43 -> 77.4423
A34: =[4]Sheet1!E44 -> AFIRMADO | B34: =[4]Sheet1!K44 -> m3 | C34: =[4]Sheet1!M44 -> 35.1936
A35: =[4]Sheet1!E45 -> HORMIGON | B35: =[4]Sheet1!K45 -> m3 | C35: =[4]Sheet1!M45 -> 96.6209
A37: VOLUMEN TOTAL | C37: =SUM(C29:C35) -> 513.9395
A40: RESULTADOS
A41: FLETE RURAL | D41: CANTIDAD | E41: COSTO | F41: SUB TOTAL
A42: POR PESO | D42: ='F.T.-U.B.S.'!F44 -> 194749.43 | E42: 0.05 | F42: =+D42*E42 -> 9737.4714
A43: SUB TOTAL | F43: =SUM(F42:F42) -> 9737.4714
A45: FLETE RURAL | D45: CANTIDAD | E45: M3/VIAJE | F45: COSTO/VIAJE | G45: SUB TOTAL
A46: POR VOLUMEN-AGREGADOS | D46: =+C37 -> 513.9395 | E46: 0.2 | F46: 15 | G46: =+D46/E46*F46 -> 38545.463
A47: SUB TOTAL | G47: =SUM(G46:G46) -> 38545.463
A50: FLETE RURAL | D50: CANTIDAD | E50: TUBER./VIAJE | F50: COSTO/VIAJE | G50: SUB TOTAL
A51: TUBERIAS: | D51: =+C38
A52: TUBERIA PVC SAL DE 2" | D52: ='F.T.-U.B.S.'!E66 -> 94 | E52: 40 | F52: 16 | G52: =+D52/E52*F52 -> 37.6
A53: TUBERIA PVC SAL DE 4" | D53: ='F.T.-U.B.S.'!E67 -> 172 | E53: 20 | F53: 16 | G53: =+D53/E53*F53 -> 137.6
A54: TUBERIA PVC DN 21MM | D54: ='F.T.-U.B.S.'!E68 -> 125 | E54: 100 | F54: 16 | G54: =+D54/E54*F54 -> 20
A55: TUBERIA PVC SAL DE 2" X 3M | D55: ='F.T.-U.B.S.'!E69 -> 113 | E55: 40 | F55: 16 | G55: =+D55/E55*F55 -> 45.2
A57: SUB TOTAL | G57: =SUM(G52:G56) -> 240.4
A59: FLETE RURAL | D59: CANTIDAD | E59: BIOD./VIAJE | F59: COSTO/VIAJE | G59: SUB TOTAL
A60: TANQUE BIODIGESTOR
A61: TANQUE BIODIGESTOR (600 LTS) | D61: 52 | E61: 2 | F61: 10 | G61: =+D61/E61*F61 -> 260
A63: SUB TOTAL | G63: =SUM(G61:G62) -> 260
A65: RESUMEN FLETE RURAL
A66: DESCRIPCION | C66: SUB TOTAL
A67: =+A42 -> POR PESO | C67: =+F43 -> 9737.4714
A68: =+A46 -> POR VOLUMEN-AGREGADOS | C68: =+G47 -> 38545.463 | I68: 8.9
A69: =+A51 -> TUBERIAS: | C69: =+G57 -> 240.4
A70: TANQUE BIODIGESTOR (600 LTS) | C70: =G63 -> 260
I71: =I68*0.18 -> 1.602
A72: TOTAL | C72: =SUM(C67:C71) -> 48783.334 | I72: =I68-I71 -> 7.298
